Package: multiWGCNA Version: 1.6.0 Command: /Library/Frameworks/R.framework/Resources/bin/R CMD INSTALL multiWGCNA StartedAt: 2025-10-13 16:26:40 -0400 (Mon, 13 Oct 2025) EndedAt: 2025-10-13 16:27:51 -0400 (Mon, 13 Oct 2025) EllapsedTime: 70.9 seconds RetCode: 0 Status: OK