Package: multiWGCNA Version: 1.6.0 Command: /Library/Frameworks/R.framework/Resources/bin/R CMD check --install=check:multiWGCNA.install-out.txt --library=/Library/Frameworks/R.framework/Resources/library --no-vignettes --timings multiWGCNA_1.6.0.tar.gz StartedAt: 2025-10-14 07:17:24 -0400 (Tue, 14 Oct 2025) EndedAt: 2025-10-14 07:28:24 -0400 (Tue, 14 Oct 2025) EllapsedTime: 660.4 seconds RetCode: 1 Status: ERROR CheckDir: multiWGCNA.Rcheck Warnings: NA