Package: multiWGCNA Version: 1.6.0 Command: /home/biocbuild/R/R/bin/R CMD INSTALL multiWGCNA StartedAt: 2025-10-13 21:05:02 -0000 (Mon, 13 Oct 2025) EndedAt: 2025-10-13 21:05:50 -0000 (Mon, 13 Oct 2025) EllapsedTime: 47.9 seconds RetCode: 0 Status: OK