Package: multiWGCNA Version: 1.6.0 Command: /home/biocbuild/R/R/bin/R CMD build --keep-empty-dirs --no-resave-data multiWGCNA StartedAt: 2025-10-14 02:56:39 -0000 (Tue, 14 Oct 2025) EndedAt: 2025-10-14 03:03:47 -0000 (Tue, 14 Oct 2025) EllapsedTime: 428.3 seconds RetCode: 0 Status: OK PackageFile: multiWGCNA_1.6.0.tar.gz PackageFileSize: 3.187 MiB