Package: multiMiR Version: 1.30.0 Command: /home/biocbuild/bbs-3.21-bioc/R/bin/R CMD check --install=check:multiMiR.install-out.txt --library=/home/biocbuild/bbs-3.21-bioc/R/site-library --timings multiMiR_1.30.0.tar.gz StartedAt: 2025-10-16 01:33:04 -0400 (Thu, 16 Oct 2025) EndedAt: 2025-10-16 01:36:08 -0400 (Thu, 16 Oct 2025) EllapsedTime: 183.3 seconds RetCode: 0 Status: OK CheckDir: multiMiR.Rcheck Warnings: 0