Package: multiMiR Version: 1.30.0 Command: /Library/Frameworks/R.framework/Resources/bin/R CMD check --install=check:multiMiR.install-out.txt --library=/Library/Frameworks/R.framework/Resources/library --no-vignettes --timings multiMiR_1.30.0.tar.gz StartedAt: 2025-10-15 05:26:20 -0400 (Wed, 15 Oct 2025) EndedAt: 2025-10-15 05:28:46 -0400 (Wed, 15 Oct 2025) EllapsedTime: 146.7 seconds RetCode: 0 Status: OK CheckDir: multiMiR.Rcheck Warnings: 0