Package: multiGSEA Version: 1.18.0 Command: rm -rf multiGSEA.buildbin-libdir && mkdir multiGSEA.buildbin-libdir && E:\biocbuild\bbs-3.21-bioc\R\bin\R.exe CMD INSTALL --build --library=multiGSEA.buildbin-libdir multiGSEA_1.18.0.tar.gz StartedAt: 2025-08-15 09:48:19 -0400 (Fri, 15 Aug 2025) EndedAt: 2025-08-15 09:49:46 -0400 (Fri, 15 Aug 2025) EllapsedTime: 87.0 seconds RetCode: 0 Status: OK PackageFile: multiGSEA_1.18.0.zip PackageFileSize: 988.2 KiB