Package: msmsEDA Version: 1.46.0 Command: chmod a+r msmsEDA -R && E:\biocbuild\bbs-3.21-bioc\R\bin\R.exe CMD build --keep-empty-dirs --no-resave-data msmsEDA StartedAt: 2025-08-14 20:38:47 -0400 (Thu, 14 Aug 2025) EndedAt: 2025-08-14 20:39:52 -0400 (Thu, 14 Aug 2025) EllapsedTime: 65.1 seconds RetCode: 0 Status: OK PackageFile: msmsEDA_1.46.0.tar.gz PackageFileSize: 335.9 KiB