Package: msmsEDA Version: 1.46.0 Command: rm -rf msmsEDA.buildbin-libdir && mkdir msmsEDA.buildbin-libdir && E:\biocbuild\bbs-3.21-bioc\R\bin\R.exe CMD INSTALL --build --library=msmsEDA.buildbin-libdir msmsEDA_1.46.0.tar.gz StartedAt: 2025-08-15 09:46:56 -0400 (Fri, 15 Aug 2025) EndedAt: 2025-08-15 09:47:43 -0400 (Fri, 15 Aug 2025) EllapsedTime: 47.7 seconds RetCode: 0 Status: OK PackageFile: msmsEDA_1.46.0.zip PackageFileSize: 395.2 KiB