Package: msmsEDA Version: 1.46.0 Command: /Library/Frameworks/R.framework/Resources/bin/R CMD check --install=check:msmsEDA.install-out.txt --library=/Library/Frameworks/R.framework/Resources/library --no-vignettes --timings msmsEDA_1.46.0.tar.gz StartedAt: 2025-04-21 22:06:57 -0400 (Mon, 21 Apr 2025) EndedAt: 2025-04-21 22:09:37 -0400 (Mon, 21 Apr 2025) EllapsedTime: 160.5 seconds RetCode: 0 Status: OK CheckDir: msmsEDA.Rcheck Warnings: 0