Package: msmsEDA Version: 1.46.0 Command: /home/biocbuild/R/R/bin/R CMD check --install=check:msmsEDA.install-out.txt --library=/home/biocbuild/R/R/site-library --no-vignettes --timings msmsEDA_1.46.0.tar.gz StartedAt: 2025-10-14 11:38:33 -0000 (Tue, 14 Oct 2025) EndedAt: 2025-10-14 11:41:59 -0000 (Tue, 14 Oct 2025) EllapsedTime: 205.2 seconds RetCode: 0 Status: OK CheckDir: msmsEDA.Rcheck Warnings: 0