Package: mslp Version: 1.10.0 Command: /Library/Frameworks/R.framework/Resources/bin/R CMD INSTALL mslp StartedAt: 2025-10-13 15:47:56 -0400 (Mon, 13 Oct 2025) EndedAt: 2025-10-13 15:48:02 -0400 (Mon, 13 Oct 2025) EllapsedTime: 5.9 seconds RetCode: 0 Status: OK