Package: mslp Version: 1.10.0 Command: /Library/Frameworks/R.framework/Resources/bin/R CMD build --keep-empty-dirs --no-resave-data mslp StartedAt: 2025-10-13 20:53:24 -0400 (Mon, 13 Oct 2025) EndedAt: 2025-10-13 20:54:20 -0400 (Mon, 13 Oct 2025) EllapsedTime: 55.7 seconds RetCode: 0 Status: OK PackageFile: mslp_1.10.0.tar.gz PackageFileSize: 407.6 KiB