Package: msa Version: 1.40.0 Command: /Library/Frameworks/R.framework/Resources/bin/R CMD check --install=check:msa.install-out.txt --library=/Library/Frameworks/R.framework/Resources/library --no-vignettes --timings msa_1.40.0.tar.gz StartedAt: 2025-06-14 02:36:34 -0400 (Sat, 14 Jun 2025) EndedAt: 2025-06-14 02:38:09 -0400 (Sat, 14 Jun 2025) EllapsedTime: 94.9 seconds RetCode: 0 Status: WARNINGS CheckDir: msa.Rcheck Warnings: 2