Package: msImpute Version: 1.18.0 Command: /Library/Frameworks/R.framework/Resources/bin/R CMD INSTALL msImpute StartedAt: 2025-04-21 15:46:21 -0400 (Mon, 21 Apr 2025) EndedAt: 2025-04-21 15:46:59 -0400 (Mon, 21 Apr 2025) EllapsedTime: 38.2 seconds RetCode: 0 Status: OK