Package: msImpute Version: 1.18.0 Command: /home/biocbuild/R/R/bin/R CMD INSTALL msImpute StartedAt: 2025-10-13 21:16:27 -0000 (Mon, 13 Oct 2025) EndedAt: 2025-10-13 21:17:08 -0000 (Mon, 13 Oct 2025) EllapsedTime: 41.8 seconds RetCode: 0 Status: OK