Package: motifmatchr Version: 1.30.0 Command: /home/biocbuild/R/R/bin/R CMD INSTALL motifmatchr StartedAt: 2025-10-13 21:08:11 -0000 (Mon, 13 Oct 2025) EndedAt: 2025-10-13 21:09:39 -0000 (Mon, 13 Oct 2025) EllapsedTime: 87.8 seconds RetCode: 0 Status: OK