Package: motifmatchr Version: 1.30.0 Command: /home/biocbuild/R/R/bin/R CMD build --keep-empty-dirs --no-resave-data motifmatchr StartedAt: 2025-10-14 02:45:16 -0000 (Tue, 14 Oct 2025) EndedAt: 2025-10-14 02:47:56 -0000 (Tue, 14 Oct 2025) EllapsedTime: 159.1 seconds RetCode: 0 Status: OK PackageFile: motifmatchr_1.30.0.tar.gz PackageFileSize: 52.39 KiB