Package: motifcounter Version: 1.32.0 Command: chmod a+r motifcounter -R && E:\biocbuild\bbs-3.21-bioc\R\bin\R.exe CMD build --keep-empty-dirs --no-resave-data motifcounter StartedAt: 2025-08-14 20:35:19 -0400 (Thu, 14 Aug 2025) EndedAt: 2025-08-14 20:36:45 -0400 (Thu, 14 Aug 2025) EllapsedTime: 85.6 seconds RetCode: 0 Status: OK PackageFile: motifcounter_1.32.0.tar.gz PackageFileSize: 452.8 KiB