Package: motifcounter Version: 1.32.0 Command: /home/biocbuild/bbs-3.21-bioc/R/bin/R CMD INSTALL motifcounter StartedAt: 2025-10-15 15:15:08 -0400 (Wed, 15 Oct 2025) EndedAt: 2025-10-15 15:15:21 -0400 (Wed, 15 Oct 2025) EllapsedTime: 12.9 seconds RetCode: 0 Status: OK