Package: motifcounter Version: 1.32.0 Command: /Library/Frameworks/R.framework/Resources/bin/R CMD INSTALL motifcounter StartedAt: 2025-04-21 15:15:35 -0400 (Mon, 21 Apr 2025) EndedAt: 2025-04-21 15:15:57 -0400 (Mon, 21 Apr 2025) EllapsedTime: 22.2 seconds RetCode: 0 Status: OK