Package: motifbreakR Version: 2.22.0 Command: E:\biocbuild\bbs-3.21-bioc\R\bin\R.exe CMD INSTALL motifbreakR StartedAt: 2025-08-14 17:01:12 -0400 (Thu, 14 Aug 2025) EndedAt: 2025-08-14 17:02:44 -0400 (Thu, 14 Aug 2025) EllapsedTime: 91.8 seconds RetCode: 0 Status: OK