Package: motifbreakR Version: 2.22.0 Command: rm -rf motifbreakR.buildbin-libdir && mkdir motifbreakR.buildbin-libdir && E:\biocbuild\bbs-3.21-bioc\R\bin\R.exe CMD INSTALL --build --library=motifbreakR.buildbin-libdir motifbreakR_2.22.0.tar.gz StartedAt: 2025-08-15 09:45:26 -0400 (Fri, 15 Aug 2025) EndedAt: 2025-08-15 09:46:56 -0400 (Fri, 15 Aug 2025) EllapsedTime: 89.9 seconds RetCode: 0 Status: OK PackageFile: motifbreakR_2.22.0.zip PackageFileSize: 2.007 MiB