Package: motifbreakR Version: 2.22.0 Command: /home/biocbuild/bbs-3.21-bioc/R/bin/R CMD check --install=check:motifbreakR.install-out.txt --library=/home/biocbuild/bbs-3.21-bioc/R/site-library --timings motifbreakR_2.22.0.tar.gz StartedAt: 2025-10-16 01:16:59 -0400 (Thu, 16 Oct 2025) EndedAt: 2025-10-16 01:33:25 -0400 (Thu, 16 Oct 2025) EllapsedTime: 986.2 seconds RetCode: 0 Status: WARNINGS CheckDir: motifbreakR.Rcheck Warnings: 1