Package: motifbreakR Version: 2.22.0 Command: /home/biocbuild/R/R/bin/R CMD INSTALL motifbreakR StartedAt: 2025-10-13 21:10:56 -0000 (Mon, 13 Oct 2025) EndedAt: 2025-10-13 21:12:39 -0000 (Mon, 13 Oct 2025) EllapsedTime: 102.9 seconds RetCode: 0 Status: OK