Package: motifbreakR Version: 2.22.0 Command: /home/biocbuild/R/R/bin/R CMD build --keep-empty-dirs --no-resave-data motifbreakR StartedAt: 2025-10-14 02:43:46 -0000 (Tue, 14 Oct 2025) EndedAt: 2025-10-14 02:54:23 -0000 (Tue, 14 Oct 2025) EllapsedTime: 636.3 seconds RetCode: 0 Status: OK PackageFile: motifbreakR_2.22.0.tar.gz PackageFileSize: 2.264 MiB