Package: motifbreakR Version: 2.22.0 Command: /Library/Frameworks/R.framework/Resources/bin/R CMD build --keep-empty-dirs --no-resave-data motifbreakR StartedAt: 2025-04-21 17:01:56 -0400 (Mon, 21 Apr 2025) EndedAt: 2025-04-21 17:04:59 -0400 (Mon, 21 Apr 2025) EllapsedTime: 183.1 seconds RetCode: 0 Status: OK PackageFile: motifbreakR_2.22.0.tar.gz PackageFileSize: 2.49 MiB