Package: motifbreakR Version: 2.22.0 Command: /Library/Frameworks/R.framework/Resources/bin/R CMD INSTALL motifbreakR StartedAt: 2025-10-13 18:06:19 -0400 (Mon, 13 Oct 2025) EndedAt: 2025-10-13 18:07:41 -0400 (Mon, 13 Oct 2025) EllapsedTime: 81.8 seconds RetCode: 0 Status: OK