Package: motifbreakR Version: 2.22.0 Maintainer: Simon Gert Coetzee MaintainerEmail: coetzee at uthscsa.edu git_url: https://git.bioconductor.org/packages/motifbreakR git_branch: RELEASE_3_21 git_last_commit: f754fca git_last_commit_date: 2025-04-15 10:53:23 -0400 (Tue, 15 Apr 2025)