Package: motifTestR Version: 1.4.2 Command: /home/biocbuild/bbs-3.21-bioc/R/bin/R CMD build --keep-empty-dirs --no-resave-data motifTestR StartedAt: 2025-10-15 18:40:27 -0400 (Wed, 15 Oct 2025) EndedAt: 2025-10-15 18:41:48 -0400 (Wed, 15 Oct 2025) EllapsedTime: 81.1 seconds RetCode: 0 Status: OK PackageFile: motifTestR_1.4.2.tar.gz PackageFileSize: 979.8 KiB