Package: motifTestR Version: 1.4.2 Command: /Library/Frameworks/R.framework/Resources/bin/R CMD check --install=check:motifTestR.install-out.txt --library=/Library/Frameworks/R.framework/Resources/library --no-vignettes --timings motifTestR_1.4.2.tar.gz StartedAt: 2025-10-15 04:49:31 -0400 (Wed, 15 Oct 2025) EndedAt: 2025-10-15 04:52:41 -0400 (Wed, 15 Oct 2025) EllapsedTime: 189.8 seconds RetCode: 0 Status: OK CheckDir: motifTestR.Rcheck Warnings: 0