Package: motifTestR Version: 1.4.2 Command: /Library/Frameworks/R.framework/Resources/bin/R CMD build --keep-empty-dirs --no-resave-data motifTestR StartedAt: 2025-10-14 05:02:00 -0400 (Tue, 14 Oct 2025) EndedAt: 2025-10-14 05:03:37 -0400 (Tue, 14 Oct 2025) EllapsedTime: 97.6 seconds RetCode: 0 Status: OK PackageFile: motifTestR_1.4.2.tar.gz PackageFileSize: 1.054 MiB