Package: motifStack Version: 1.52.0 Command: /Library/Frameworks/R.framework/Resources/bin/R CMD check --install=check:motifStack.install-out.txt --library=/Library/Frameworks/R.framework/Resources/library --no-vignettes --timings motifStack_1.52.0.tar.gz StartedAt: 2025-04-21 20:29:02 -0400 (Mon, 21 Apr 2025) EndedAt: 2025-04-21 20:31:07 -0400 (Mon, 21 Apr 2025) EllapsedTime: 125.4 seconds RetCode: 0 Status: OK CheckDir: motifStack.Rcheck Warnings: 0