Package: mosdef Version: 1.4.1 Command: /home/biocbuild/bbs-3.21-bioc/R/bin/R CMD INSTALL mosdef StartedAt: 2025-10-15 15:50:44 -0400 (Wed, 15 Oct 2025) EndedAt: 2025-10-15 15:51:30 -0400 (Wed, 15 Oct 2025) EllapsedTime: 46.6 seconds RetCode: 0 Status: OK