Package: mosaics Version: 2.46.0 Command: rm -rf mosaics.buildbin-libdir && mkdir mosaics.buildbin-libdir && /Users/biocbuild/BBS/utils/build-universal.sh mosaics_2.46.0.tar.gz /Library/Frameworks/R.framework/Resources/bin/R mosaics.buildbin-libdir StartedAt: 2025-10-03 13:50:30 -0400 (Fri, 03 Oct 2025) EndedAt: 2025-10-03 13:53:19 -0400 (Fri, 03 Oct 2025) EllapsedTime: 169.4 seconds RetCode: 0 Status: OK PackageFile: mosaics_2.46.0.tgz PackageFileSize: 1.835 MiB