Package: mosaics Version: 2.46.0 Command: /Library/Frameworks/R.framework/Resources/bin/R CMD INSTALL mosaics StartedAt: 2025-10-02 16:39:03 -0400 (Thu, 02 Oct 2025) EndedAt: 2025-10-02 16:39:55 -0400 (Thu, 02 Oct 2025) EllapsedTime: 51.8 seconds RetCode: 0 Status: OK