Package: mosaics Version: 2.46.0 Command: rm -rf mosaics.buildbin-libdir && mkdir mosaics.buildbin-libdir && /Users/biocbuild/BBS/utils/build-universal.sh mosaics_2.46.0.tar.gz /Library/Frameworks/R.framework/Resources/bin/R mosaics.buildbin-libdir StartedAt: 2025-10-04 18:54:24 -0400 (Sat, 04 Oct 2025) EndedAt: 2025-10-04 18:55:21 -0400 (Sat, 04 Oct 2025) EllapsedTime: 56.5 seconds RetCode: 0 Status: OK PackageFile: mosaics_2.46.0.tgz PackageFileSize: 1.84 MiB