Package: mobileRNA Version: 1.4.0 Command: /Library/Frameworks/R.framework/Resources/bin/R CMD build --keep-empty-dirs --no-resave-data mobileRNA StartedAt: 2025-04-21 17:32:17 -0400 (Mon, 21 Apr 2025) EndedAt: 2025-04-21 17:34:07 -0400 (Mon, 21 Apr 2025) EllapsedTime: 109.6 seconds RetCode: 0 Status: OK PackageFile: mobileRNA_1.4.0.tar.gz PackageFileSize: 3.222 MiB