Package: mobileRNA Version: 1.4.0 Command: rm -rf mobileRNA.buildbin-libdir && mkdir mobileRNA.buildbin-libdir && /Users/biocbuild/BBS/utils/build-universal.sh mobileRNA_1.4.0.tar.gz /Library/Frameworks/R.framework/Resources/bin/R mobileRNA.buildbin-libdir StartedAt: 2025-04-22 00:55:38 -0400 (Tue, 22 Apr 2025) EndedAt: 2025-04-22 00:56:30 -0400 (Tue, 22 Apr 2025) EllapsedTime: 52.0 seconds RetCode: 0 Status: OK PackageFile: mobileRNA_1.4.0.tgz PackageFileSize: 3.358 MiB