Package: mobileRNA Version: 1.4.0 Command: /home/biocbuild/R/R/bin/R CMD INSTALL mobileRNA StartedAt: 2025-10-06 20:43:16 -0000 (Mon, 06 Oct 2025) EndedAt: 2025-10-06 20:44:06 -0000 (Mon, 06 Oct 2025) EllapsedTime: 50.2 seconds RetCode: 0 Status: OK