Package: mobileRNA Version: 1.4.0 Command: /home/biocbuild/R/R/bin/R CMD check --install=check:mobileRNA.install-out.txt --library=/home/biocbuild/R/R/site-library --no-vignettes --timings mobileRNA_1.4.0.tar.gz StartedAt: 2025-10-07 11:46:18 -0000 (Tue, 07 Oct 2025) EndedAt: 2025-10-07 11:54:03 -0000 (Tue, 07 Oct 2025) EllapsedTime: 464.7 seconds RetCode: 0 Status: OK CheckDir: mobileRNA.Rcheck Warnings: 0