Package: mobileRNA Version: 1.4.0 Command: /home/biocbuild/R/R/bin/R CMD build --keep-empty-dirs --no-resave-data mobileRNA StartedAt: 2025-10-07 02:42:47 -0000 (Tue, 07 Oct 2025) EndedAt: 2025-10-07 02:44:49 -0000 (Tue, 07 Oct 2025) EllapsedTime: 122.0 seconds RetCode: 0 Status: OK PackageFile: mobileRNA_1.4.0.tar.gz PackageFileSize: 3.222 MiB