Package: mobileRNA Version: 1.4.0 Command: /Library/Frameworks/R.framework/Resources/bin/R CMD build --keep-empty-dirs --no-resave-data mobileRNA StartedAt: 2025-04-21 16:59:55 -0400 (Mon, 21 Apr 2025) EndedAt: 2025-04-21 17:00:33 -0400 (Mon, 21 Apr 2025) EllapsedTime: 38.4 seconds RetCode: 0 Status: OK PackageFile: mobileRNA_1.4.0.tar.gz PackageFileSize: 3.223 MiB