Package: mobileRNA Version: 1.4.0 Command: /Library/Frameworks/R.framework/Resources/bin/R CMD INSTALL mobileRNA StartedAt: 2025-09-29 16:51:15 -0400 (Mon, 29 Sep 2025) EndedAt: 2025-09-29 16:52:00 -0400 (Mon, 29 Sep 2025) EllapsedTime: 45.4 seconds RetCode: 0 Status: OK