Package: mobileRNA Version: 1.4.0 Command: /Library/Frameworks/R.framework/Resources/bin/R CMD build --keep-empty-dirs --no-resave-data mobileRNA StartedAt: 2025-09-30 04:47:33 -0400 (Tue, 30 Sep 2025) EndedAt: 2025-09-30 04:49:22 -0400 (Tue, 30 Sep 2025) EllapsedTime: 108.6 seconds RetCode: 0 Status: OK PackageFile: mobileRNA_1.4.0.tar.gz PackageFileSize: 3.221 MiB