Package: moanin Version: 1.16.1 Command: E:\biocbuild\bbs-3.21-bioc\R\bin\R.exe CMD check --no-multiarch --install=check:moanin.install-out.txt --library=E:\biocbuild\bbs-3.21-bioc\R\library --no-vignettes --timings moanin_1.16.1.tar.gz StartedAt: 2025-08-15 04:18:33 -0400 (Fri, 15 Aug 2025) EndedAt: 2025-08-15 04:25:01 -0400 (Fri, 15 Aug 2025) EllapsedTime: 388.0 seconds RetCode: 0 Status: OK CheckDir: moanin.Rcheck Warnings: 0