Package: moanin Version: 1.16.1 Command: /home/biocbuild/R/R/bin/R CMD check --install=check:moanin.install-out.txt --library=/home/biocbuild/R/R/site-library --no-vignettes --timings moanin_1.16.1.tar.gz StartedAt: 2025-09-30 11:55:30 -0000 (Tue, 30 Sep 2025) EndedAt: 2025-09-30 12:02:11 -0000 (Tue, 30 Sep 2025) EllapsedTime: 401.5 seconds RetCode: 0 Status: OK CheckDir: moanin.Rcheck Warnings: 0