Package: moanin Version: 1.16.1 Command: /Library/Frameworks/R.framework/Resources/bin/R CMD check --install=check:moanin.install-out.txt --library=/Library/Frameworks/R.framework/Resources/library --no-vignettes --timings moanin_1.16.1.tar.gz StartedAt: 2025-10-08 06:10:00 -0400 (Wed, 08 Oct 2025) EndedAt: 2025-10-08 06:15:54 -0400 (Wed, 08 Oct 2025) EllapsedTime: 354.1 seconds RetCode: 0 Status: OK CheckDir: moanin.Rcheck Warnings: 0