Package: moanin Version: 1.16.1 Maintainer: Nelle Varoquaux MaintainerEmail: nelle.varoquaux at gmail.com git_url: https://git.bioconductor.org/packages/moanin git_branch: RELEASE_3_21 git_last_commit: ac3a9a7 git_last_commit_date: 2025-05-08 12:28:57 -0400 (Thu, 08 May 2025)