Package: mixOmics Version: 6.32.0 Command: chmod a+r mixOmics -R && E:\biocbuild\bbs-3.21-bioc\R\bin\R.exe CMD build --keep-empty-dirs --no-resave-data mixOmics StartedAt: 2025-08-14 20:29:24 -0400 (Thu, 14 Aug 2025) EndedAt: 2025-08-14 20:48:11 -0400 (Thu, 14 Aug 2025) EllapsedTime: 1127.6 seconds RetCode: 0 Status: OK PackageFile: mixOmics_6.32.0.tar.gz PackageFileSize: 10.89 MiB